BEGIN:VCALENDAR
VERSION:2.0
PRODID:icalendar-ruby
CALSCALE:GREGORIAN
BEGIN:VEVENT
DTSTAMP:20260419T121401Z
UID:cdc9ccc0-d1ee-41ec-a78a-1146e0d0eede
DTSTART;VALUE=DATE:20260520
DESCRIPTION:Property ID# 606696\, Locatoin: Harcourts Auction Room\, 1 Thir
 d Avenue\, Tauranga\, Time: 11:30AM
SUMMARY:Auction for 2A Oikimoke Road
END:VEVENT
END:VCALENDAR
