BEGIN:VCALENDAR
VERSION:2.0
PRODID:icalendar-ruby
CALSCALE:GREGORIAN
BEGIN:VEVENT
DTSTAMP:20260421T204232Z
UID:e72a1539-0183-43c0-a072-2a1559653523
DTSTART;VALUE=DATE:20260506
DESCRIPTION:Property ID# 606339\, Locatoin: Auction Rooms\, 247 Cameron Roa
 d\, Tauranga. Unless sold prior\, Time: 1:00PM
SUMMARY:Auction for 7 Apex Way
END:VEVENT
END:VCALENDAR
