BEGIN:VCALENDAR
VERSION:2.0
PRODID:icalendar-ruby
CALSCALE:GREGORIAN
BEGIN:VEVENT
DTSTAMP:20260421T203825Z
UID:fd878eb4-ca2e-4911-bccb-df87ee0f8698
DTSTART;VALUE=DATE:20260318
DESCRIPTION:Property ID# 604116\, Locatoin: Bayleys Auction Rooms\, 247 Cam
 eron Road Tauranga (if not sold prior)\, Time: 12:00PM
SUMMARY:Auction for 
END:VEVENT
END:VCALENDAR
