BEGIN:VCALENDAR
VERSION:2.0
PRODID:icalendar-ruby
CALSCALE:GREGORIAN
BEGIN:VEVENT
DTSTAMP:20260421T203208Z
UID:b2da7719-81d1-46b6-9bb9-ccd57b29c3b4
DTSTART;VALUE=DATE:20260304
DESCRIPTION:Property ID# 603198\, Locatoin: Auction Rooms\, 247 Cameron Roa
 d\, Tauranga. Unless sold prior\, Time: 1:00PM
SUMMARY:Auction for 
END:VEVENT
END:VCALENDAR
