BEGIN:VCALENDAR
VERSION:2.0
PRODID:icalendar-ruby
CALSCALE:GREGORIAN
BEGIN:VEVENT
DTSTAMP:20260421T173100Z
UID:2687bddf-a2c2-4dec-af8f-3ba80b7e608e
DTSTART;VALUE=DATE:20260218
DESCRIPTION:Property ID# 602999\, Locatoin: Auction Rooms\, 247 Cameron Roa
 d\, Tauranga. Unless sold prior\, Time: 1:00PM
SUMMARY:Auction for 
END:VEVENT
END:VCALENDAR
