BEGIN:VCALENDAR
VERSION:2.0
PRODID:icalendar-ruby
CALSCALE:GREGORIAN
BEGIN:VEVENT
DTSTAMP:20260421T204205Z
UID:d695cfce-8ea3-4d2c-af09-cce2f59f7a5d
DTSTART;VALUE=DATE:20260225
DESCRIPTION:Property ID# 602873\, Locatoin: Bayleys Auction Rooms\, 247 Cam
 eron Road Tauranga (if not sold prior)\, Time: 1:00PM
SUMMARY:Auction for 1/2 Sixth Avenue
END:VEVENT
END:VCALENDAR
