BEGIN:VCALENDAR
VERSION:2.0
PRODID:icalendar-ruby
CALSCALE:GREGORIAN
BEGIN:VEVENT
DTSTAMP:20260425T105517Z
UID:438b8970-ed31-4762-a8c5-fcc8ff2e25a9
DTSTART;VALUE=DATE:20251029
DESCRIPTION:Property ID# 598362\, Time: 12:00PM
SUMMARY:Auction for 
END:VEVENT
END:VCALENDAR
