BEGIN:VCALENDAR
VERSION:2.0
PRODID:icalendar-ruby
CALSCALE:GREGORIAN
BEGIN:VEVENT
DTSTAMP:20260424T013421Z
UID:9bb4fead-911b-479d-8f78-666879e74d17
DTSTART;VALUE=DATE:20250820
DESCRIPTION:Property ID# 595470\, Time: 2:00PM
SUMMARY:Auction for 
END:VEVENT
END:VCALENDAR
