BEGIN:VCALENDAR
VERSION:2.0
PRODID:icalendar-ruby
CALSCALE:GREGORIAN
BEGIN:VEVENT
DTSTAMP:20260423T125933Z
UID:aa9e2335-1606-48da-a977-f03404a58f8d
DTSTART;VALUE=DATE:20250611
DESCRIPTION:Property ID# 593082\, Locatoin: Harcourts Auction Room\, 1 Thir
 d Avenue\, Tauranga\, Time: 11:30AM
SUMMARY:Auction for 
END:VEVENT
END:VCALENDAR
