BEGIN:VCALENDAR
VERSION:2.0
PRODID:icalendar-ruby
CALSCALE:GREGORIAN
BEGIN:VEVENT
DTSTAMP:20260422T091304Z
UID:44266ca9-5df6-4568-a1c5-0806725f6d17
DTSTART;VALUE=DATE:20250508
DESCRIPTION:Property ID# 590716\, Locatoin: 63 Jellicoe Street\, Te Puke (w
 ill not be sold prior).\, Time: 1:00PM
SUMMARY:Auction for 
END:VEVENT
END:VCALENDAR
