BEGIN:VCALENDAR
VERSION:2.0
PRODID:icalendar-ruby
CALSCALE:GREGORIAN
BEGIN:VEVENT
DTSTAMP:20260424T014010Z
UID:256da06c-5213-4bb3-8dc0-ccfd176ad48f
DTSTART;VALUE=DATE:20250410
DESCRIPTION:Property ID# 589674\, Locatoin: Auction Rooms\, 247 Cameron Roa
 d\, Tauranga. Unless sold prior\, Time: 1:00PM
SUMMARY:Auction for 
END:VEVENT
END:VCALENDAR
