BEGIN:VCALENDAR
VERSION:2.0
PRODID:icalendar-ruby
CALSCALE:GREGORIAN
BEGIN:VEVENT
DTSTAMP:20260424T013853Z
UID:be76c1e6-64c2-4a6d-b0a8-9ee332c080b8
DTSTART;VALUE=DATE:20241205
DESCRIPTION:Property ID# 584049\, Time: 1:00PM
SUMMARY:Auction for 
END:VEVENT
END:VCALENDAR
