BEGIN:VCALENDAR
VERSION:2.0
PRODID:icalendar-ruby
CALSCALE:GREGORIAN
BEGIN:VEVENT
DTSTAMP:20260424T050537Z
UID:f3fd2c76-fb2a-473a-bd13-4093dc6af8b1
DTSTART;VALUE=DATE:20241003
DESCRIPTION:Property ID# 580227\, Locatoin: Auction Rooms\, 247 Cameron Rd\
 , Time: 1:00PM
SUMMARY:Auction for 
END:VEVENT
END:VCALENDAR
