BEGIN:VCALENDAR
VERSION:2.0
PRODID:icalendar-ruby
CALSCALE:GREGORIAN
BEGIN:VEVENT
DTSTAMP:20260424T050321Z
UID:409ddcc0-9ed2-4290-8f75-6eb07b82fd3b
DTSTART;VALUE=DATE:20240516
DESCRIPTION:Property ID# 574780\, Locatoin: 247 Cameron Road\, Tauranga\, T
 ime: 1:00PM
SUMMARY:Auction for 
END:VEVENT
END:VCALENDAR
