BEGIN:VCALENDAR
VERSION:2.0
PRODID:icalendar-ruby
CALSCALE:GREGORIAN
BEGIN:VEVENT
DTSTAMP:20260424T050003Z
UID:f0177294-01ed-4f61-a2e4-68d13756d8da
DTSTART;VALUE=DATE:20240207
DESCRIPTION:Property ID# 568489\, Time: 12:30PM
SUMMARY:Auction for 
END:VEVENT
END:VCALENDAR
