BEGIN:VCALENDAR
VERSION:2.0
PRODID:icalendar-ruby
CALSCALE:GREGORIAN
BEGIN:VEVENT
DTSTAMP:20260424T051051Z
UID:ceae2663-e6e6-401b-94b4-42a285353556
DTSTART;VALUE=DATE:20210701
DESCRIPTION:Property ID# 511098\, Locatoin: In rooms\, Time: 1:00PM
SUMMARY:Auction for 
END:VEVENT
END:VCALENDAR
