BEGIN:VCALENDAR
VERSION:2.0
PRODID:icalendar-ruby
CALSCALE:GREGORIAN
BEGIN:VEVENT
DTSTAMP:20260424T050320Z
UID:84032f01-f840-4c1d-aff8-98f5aff61842
DTSTART;VALUE=DATE:20210324
DESCRIPTION:Property ID# 503486\, Locatoin: In rooms\, Time: 4:00PM
SUMMARY:Auction for 
END:VEVENT
END:VCALENDAR
