BEGIN:VCALENDAR
VERSION:2.0
PRODID:icalendar-ruby
CALSCALE:GREGORIAN
BEGIN:VEVENT
DTSTAMP:20260424T050003Z
UID:4296c167-0a9f-49df-84b0-0dfc9a903b4b
DTSTART;VALUE=DATE:20210211
DESCRIPTION:Property ID# 499751\, Locatoin: In rooms\, Time: 12:00PM
SUMMARY:Auction for 
END:VEVENT
END:VCALENDAR
